BEGIN:VCALENDAR
VERSION:2.0
PRODID:-//wp-events-plugin.com//7.2.3.1//EN
TZID:Europe/Berlin
X-WR-TIMEZONE:Europe/Berlin
BEGIN:VEVENT
UID:8570@bensheimerleben.distama.de
DTSTART;TZID=Europe/Berlin:20251011T100000
DTEND;TZID=Europe/Berlin:20251011T140000
DTSTAMP:20250930T131741Z
URL:https://bensheimerleben.distama.de/events/aktionstag-fair-nachhaltig-o
 ekologisch-gemeinsam-fuer-eine-bessere-welt/
SUMMARY:Aktionstag Fair. Nachhaltig. Ökologisch. Gemeinsam für eine besse
 re Welt
DESCRIPTION:Aktionstag der Steuerungsgruppe Fairtrade-Stadt Bensheim in der
  gesamten Innenstadt\n\nEntdecken Sie tolle Infostände und Aktionen\n\nWe
 itere Informationen in der Pressemitteilung der Stadt Bensheim. \n\n&nbsp
 \;
CATEGORIES:Feste, Märkte und Regionales,Freizeit
END:VEVENT
BEGIN:VTIMEZONE
TZID:Europe/Berlin
X-LIC-LOCATION:Europe/Berlin
BEGIN:DAYLIGHT
DTSTART:20250330T030000
TZOFFSETFROM:+0100
TZOFFSETTO:+0200
TZNAME:CEST
END:DAYLIGHT
END:VTIMEZONE
END:VCALENDAR