BEGIN:VCALENDAR
VERSION:2.0
PRODID:-//wp-events-plugin.com//7.2.3.1//EN
TZID:Europe/Berlin
X-WR-TIMEZONE:Europe/Berlin
BEGIN:VEVENT
UID:7711@bensheimerleben.distama.de
DTSTART;TZID=Europe/Berlin:20250823T100000
DTEND;TZID=Europe/Berlin:20250823T220000
DTSTAMP:20241210T141856Z
URL:https://bensheimerleben.distama.de/events/jazz-von-10-bis-zehn-4/
SUMMARY:Jazz von 10 bis Zehn!
DESCRIPTION:Auch in diesem Jahr präsntieren die Organisatoren des Bergstr
 äßer Jazzfestivals\, unter der musikalischen Leitung von Professor Bruno
  Weis\, das ganze Spektrum von "Oldtime-Jazz" von 10 bis zehn am Bensheime
 r Bürgerwehrbrunnen.\n\nDer Eintritt ist frei.\nFür das leibliche Wohl i
 st gesorgt.\n\n10\, 14 und 18 Uhr: Die Jazzpolizei – Marching Band\nNein
 \, mit der in Musikerkreisen berüchtigten sogenannten Jazzpolizei haben s
 ie nichts zu tun. Deren strenge Wächter fordern unbarmherzig unbedingte "
 Stiltreue" der Kollegen\, notieren falsche Töne und achten penibel darauf
 \, dass es nicht zu unangemessener Kontaktaufnahme mit dem Publikum kommt.
  Dieses famos-virtuose Trio gleichen Namens gibt dem Hot Jazz genau das zu
 rück\, was ihm verbiesterte und "in Ehren ergraute" Studienräte und Zahn
 ärzte gründlich ausgetrieben haben: den Spaß\, die Lust am Spiel fürs 
 (und mit dem) Publikum. Erlaubt ist und gespielt wird alles\, was Spaß ma
 cht.\n\n"Gehen Sie aus sich heraus! Wir wissen\, dass Sie da drin sind!"\,
  fordern sie ihr Publikum zwischen virtuos interpretierten Jazz-Klassikern
  auf. Und das reagiert prompt\, im Handumdrehen haben die drei in überdre
 hten Polizei-Uniformen agierenden "Ordnungshüter" ein Lächeln auf die Ge
 sichter gezaubert. Jazz war von Anfang an auch Tanzmusik\, die mit viel Hu
 mor zelebriert wurde. Die Texte vieler Titel sind deftig\, lustig oder auc
 h zweideutig. Die Jazzpolizei belebt in vollkommen unbekümmerter Weise di
 ese Tradition neu.\n\nNie gehörte Interpretationen bekannter Titel wechse
 ln sich mit Situations-Komik\, Klamauk- und Slapstick-Einlagen ab. Und so 
 schlagen die drei Herren in schrägem Outfit und mit originären Späßen 
 gekonnt den Bogen ins Hier und Heute. Ihre handgemachte Show ("Keine Waffe
 n – keine Noten!") macht Laune\, ist stets dicht umlagert und begeistert
  regelmäßig so sehr\, dass sie sich vor Anfragen und Auftritten fast nic
 ht mehr retten können.\n\nJürgen Hahn: Trompete\, Megafon - Mathias Grab
 isch: Sousafon - Peter Dams: Banjo\, Gesang\n\n&nbsp\;\n\n11 bis 14 Uhr: B
 oogiemen´s Friends\n176 Tasten\, 20 flinke Finger\, und 200 Prozent Leben
 sfreude – das zeichnet die Boogie- und Blues-Formation Ulrich Zenkel und
  Marc Hupfer aus Bamberg aus. Ulrich Zenkel ist stark vom kraftvollen Spi
 el Albert Ammons’ geprägt. Marc Hupfers Stil\, beeinflusst durch Vince 
 Weber\, liegt näher am Blues. So verfügt das gemeinsame Spiel über eine
  große Bandbreite des Piano-Boogie und Blues - die heißeste Musik\, die 
 je für das Klavier erfunden wurde.\n\nAm Schlagzeug peitscht Julian Göll
 er den Boogie Beat voran. Mit seinen kräftig-virtuosen Soli setzt er klar
 e Akzente. Mit Deirdre Kelly am Gesang sind auch Nummern des großen Boogi
 e Shouters Big Joe Turner Teil des Programms. Die tolle Sängerin mit iris
 chen Wurzeln wohnt zwar nicht auf einem Hausboot\, trotzdem wurde ihr die 
 Musikalität in die Wiege gelegt. Mit Albert Koch aus Kaiserslautern ist 
 einer der bekanntesten und virtuosesten Bluesharper und Sänger Deutschla
 nds Teil der Band.\n\n&nbsp\;\n\n15 bis 18 Uhr: Wolfgang Kalb\nWolfgang K
 alb beherrscht die vielseitigen Genres des Country Blues ab den 20er Jahre
 n des vorigen Jahrhunderts mit all seinen verwandten Stilen wie Gospel\, R
 agtime\, Folk etc. Er benötigt keine Begleitband\, um sein Publikum zu fe
 sseln. Nur auf sich selbst konzentriert\, spielt er den Blues in seiner re
 insten Form. Im Fingerpicking-Stil oder mit der Bottleneck-Spielweise auf 
 verschiedenen Resonator-Gitarren interpretiert er die Lieder der alten Mei
 ster (Fred McDowell\, Robert Johnson\, Mississippi John Hurt\, Blind Willi
 e Johnson\, John Lee Hooker u.a.) auf ganz eigene\, unverwechselbare Weise
 \, verändert Musik und Texte und passt sie an seine persönliche Situatio
 n an. Wolfgang Kalb gräbt die Wurzeln des Blues aus den 20er und 30er Ja
 hren aus und bringt sie zum Leuchten. Fingerpicking und Slide auf verschie
 denen Gitarren sind seine Spezialitäten. Seine Resonator-Gitarren (Blechg
 itarren) hat er fest im Griff\, gefühlsvolle Balladen\, alte Gospelsongs 
 und rollenden Ragtime interpretiert er frisch und gekonnt.Musik. An Bluesm
 undharmonika und Gitarre sowie mit Gesang begleitet er ihn "Mojo" Kilian.\
 n\n&nbsp\;\n\n19 bis 22 Uhr: MAMA SHAKERS\n\nDiese Mischung aus Hits der "
 Roaring Twenties"\, obskuren Jazz-\, Blues- und Country-Songs sowie den 
 eigenen Chansons vom schwedisch-französischen Wirbelwind  Angela Strand
 berg\, garniert mit mehrstimmigem Gesang und einer unglaublich vitalen B
 ühnenpräsenz\, ist einzigartig. Ihre Konzerte in ganz Europa werden vom
  Publikum und den Medien mit großer Begeisterung aufgenommen.\n\nBandle
 aderin und temperamentvolle Sängerin und Trompeterin ist Angela Strandb
 erg. Sie wuchs in Stockholm und Paris auf\, wo ihre Mutter eine bekannte
  Jazzmusikerin ist. In Paris hat sie diese Band gegründet\, mit der sie 
 ihrer Liebe zum ganz alten Jazz und Blues frönen und mit ungestümem El
 an performen kann. Angela ist ein singender und tanzender Wirbelwind\, d
 azu spielt sie noch Trompete  und Washboard. Das Repertoire der Band ist
  eine bunte Mischung aus tanzbaren Jazz- und Blues-Titeln der 20er und 3
 0er Jahre\, gewürzt mit schönen und wilden Songs aus dem Fundus des Ja
 zz\, Bluegrass-Swings und Blues. Plus Angelas eigene Kompositionen: Song
 s mit rauem Charme und romantischer Schönheit.\n\nAngela Strandberg: Tro
 mpete\, Vocal\, Washboard - Hugo Proy: Klarinette\, Vocal - Baptiste Hec: 
 Gitarre\, Dobro\, Vocal - William Ohlund: Banjo - Gabriel Seyer: Kontrabas
 s\n\n&nbsp\;\n\nWeitere Informationen zum Bergsträßer Jazzfestival finde
 n Sie unter Bergsträßer Jazz-Festival (bergstraesser-jazzfestival.de)
ATTACH;FMTTYPE=image/jpeg:https://bensheimerleben.distama.de/wp-content/up
 loads/2023/02/csm_BAJazz_Logo08_neg_84f7a746cd-3d8ba5b2.jpg
CATEGORIES:Konzerte &amp; Musik
LOCATION:Bürgerwehrbrunnen Bensheim\, Hauptstraße 39\, Bensheim\, 64625\,
  Deutschland
GEO:49.68044;8.622079
X-APPLE-STRUCTURED-LOCATION;VALUE=URI;X-ADDRESS=Hauptstraße 39\, Bensheim\
 , 64625\, Deutschland;X-APPLE-RADIUS=100;X-TITLE=Bürgerwehrbrunnen Benshe
 im:geo:49.68044,8.622079
END:VEVENT
BEGIN:VTIMEZONE
TZID:Europe/Berlin
X-LIC-LOCATION:Europe/Berlin
BEGIN:DAYLIGHT
DTSTART:20250330T030000
TZOFFSETFROM:+0100
TZOFFSETTO:+0200
TZNAME:CEST
END:DAYLIGHT
END:VTIMEZONE
END:VCALENDAR